BEGIN:VCALENDAR
VERSION:2.0
PRODID:-//ChamberMaster//Event Calendar 2.0//EN
METHOD:PUBLISH
X-PUBLISHED-TTL:P1H
REFRESH-INTERVAL:P1H
CALSCALE:GREGORIAN
BEGIN:VTIMEZONE
TZID:America/Chicago
BEGIN:DAYLIGHT
RRULE:FREQ=YEARLY;BYMONTH=3;BYDAY=2SU
DTSTART:20070101T000000
TZOFFSETFROM:-0600
TZOFFSETTO:-0500
TZNAME:Central Daylight Time
END:DAYLIGHT
BEGIN:STANDARD
RRULE:FREQ=YEARLY;BYMONTH=11;BYDAY=1SU
DTSTART:20070101T000000
TZOFFSETFROM:-0500
TZOFFSETTO:-0600
TZNAME:Central Standard Time
END:STANDARD
END:VTIMEZONE
BEGIN:VEVENT
DTSTART;TZID=America/Chicago:20261026T000000
DTEND;TZID=America/Chicago:20261029T000000
X-MICROSOFT-CDO-ALLDAYEVENT:FALSE
SUMMARY:"The One for Synagogue Executives" presented by NATA & NAASE
DESCRIPTION:Join Us in New Brunswick!The NATA and NAASE Joint Conference is where synagogue executives gather to exchange knowledge\, resources\, strategies\, solutions\, and more. After four days of learning\, growing\, and finding inspiration\, attendees are prepared to return to work equipped with valuable support in their daily responsibilities and motivated to embrace another year as leaders in their local communities.In 2026\, we are The One for Synagogue Executives!Inspired by the iconic 90s sitcom\, our theme celebrates the power of individual uniqueness within a community of joy\, support\, and shared learning. Just as the characters we know and love navigated life's ups and downs together\, we strive to build a network where every synagogue professional feels like they have a seat on the "orange couch."We hope you'll join us for this incredible journey!For detailed information\, visit the 2026 Conference Website. For hotel and travel information\, view the hotel and travel page.NEW THIS YEAR - We are pleased to offer Registration Protection insurance through ViCoverage for the first time this year. Please note that it applies only to registration fees and does not cover travel expenses\, exhibitor fees\, or add-ons. For additional information\, please contact Alissa Poland. View updated NATA cancellation & refund policy here.
X-ALT-DESC;FMTTYPE=text/html:<!DOCTYPE html><html><head><title></title></head><body aria-disabled="false"><p>Join Us in New Brunswick!</p><p>The NATA and NAASE Joint Conference is where synagogue executives gather to exchange knowledge\, resources\, strategies\, solutions\, and more. After four days of learning\, growing\, and finding inspiration\, attendees are prepared to return to work equipped with valuable support in their daily responsibilities and motivated to embrace another year as leaders in their local communities.</p><p>In 2026\, we are <strong fr-original-style="" style="font-weight: 700\;">The One for Synagogue Executives</strong>!</p><p>Inspired by the iconic 90s sitcom\, our theme celebrates the power of individual uniqueness within a community of joy\, support\, and shared learning. Just as the characters we know and love navigated life&rsquo\;s ups and downs together\, we strive to build a network where every synagogue professional feels like they have a seat on the &quot\;orange couch.&quot\;</p><p>We hope you&#39\;ll join us for this incredible journey!</p><p>For detailed information\, visit the <a fr-original-style="" href="https://www.natanet.org/2026-conference/" rel="noopener noreferrer" style="user-select: auto\;" target="_blank">2026 Conference Website.</a> For hotel and travel information\, view the <a fr-original-style="" href="https://www.natanet.org/2026-conference/travel-hotel/" rel="noopener noreferrer" style="user-select: auto\;" target="_blank">hotel and travel page</a>.</p><hr fr-original-style="" style="clear: both\; user-select: none\; break-after: page\;"><p><strong fr-original-style="" style="font-weight: 700\;"><span style="color: rgb(65\, 168\, 95)\;">NEW THIS YEAR - We are pleased to offer Registration Protection insurance through ViCoverage for the first time this year. Please note that it applies only to registration fees and </span><span style="color: rgb(184\, 49\, 47)\;">does not cover travel expenses\, exhibitor fees\, or add-ons.</span><span style="color: rgb(65\, 168\, 95)\;"> For additional information\, please contact Alissa Poland. View updated NATA cancellation &amp\; refund policy</span>&nbsp\;</strong><a fr-original-style="" href="https://www.natanet.org/2026-conference/faqs/" style="user-select: auto\;" target="_blank"><strong fr-original-style="" style="font-weight: 700\;">here</strong></a><strong fr-original-style="" style="font-weight: 700\;"><u>.</u></strong></p></body></html>
LOCATION:2 Albany St New Brunswick NJ 08901
UID:e.2919.1414361
SEQUENCE:3
DTSTAMP:20260422T133717Z
URL:https://members.natanet.org/eventcalendar/Details/the-one-for-synagogue-executives-presented-by-nata-naase-1671303?sourceTypeId=Hub
END:VEVENT
END:VCALENDAR
